BEGIN:VCALENDAR
VERSION:2.0
PRODID:icalendar-ruby
CALSCALE:GREGORIAN
METHOD:PUBLISH
BEGIN:VEVENT
DTSTAMP:20260423T130910Z
UID:66-477091@thestonechurch.tithelysetup5.com
DTSTART:20260509T130000Z
DTEND:20260509T170000Z
CLASS:PUBLIC
CREATED:20260407T114754
DESCRIPTION:Saturday\, May 9\, we invite you to join us for a churchwide ou
 tdoor clean up party. We will start at 8AM\, cleaning up the grounds and t
 idying everything up from this past winter. Lunch will be provided around 
 noon.
LAST-MODIFIED:20260407T114754
LOCATION:theStone Church
SUMMARY:Churchwide Outdoor Clean Up Day
URL;VALUE=URI:https://thestone.life/events/churchwide-outdoor-clean-up-day/
 2026-05-09
ATTACH;FILENAME=Church-Clean-Up-Day.png;FMTTYPE=image/png:https://dq5pwpg1q
 8ru0.cloudfront.net/2026/04/07/16/47/53/02254fa0-151b-45ee-8ce1-cefe4f0d95
 8f/Church-Clean-Up-Day.png
END:VEVENT
END:VCALENDAR
