BEGIN:VCALENDAR
VERSION:2.0
PRODID:icalendar-ruby
CALSCALE:GREGORIAN
METHOD:PUBLISH
BEGIN:VEVENT
DTSTAMP:20260423T130630Z
UID:70-492177@thestonechurch.tithelysetup5.com
DTSTART:20260524T140000Z
DTEND:20260524T150000Z
CLASS:PUBLIC
CREATED:20260413T095413
DESCRIPTION:On May 24th\, we will be recognizing both seniors and graduatin
 g 4th graders on stage during the 9AM service.\nThis moment is more than j
 ust a 'send off'\, it's a visual representation of stepping into a new lev
 el of faith and maturity that will require an even deeper trust in The One
  who walks beside them! This special recognition has the potential to be a
 n important core memory that they will not soon forget.\nThank you for com
 ing alongside us as we minister and help point your child to Christ!\nNOTE
 : theStone Kids and Students will be closed.\n \n**4th graders moving up 
 to theForge sign up: https://thestone.breezechms.com/form/25b9bb\n**Gradua
 ting seniors sign up: https://thestone.breezechms.com/form/2d5f2c\nPlease 
 register your student by May 17th.
LAST-MODIFIED:20260413T095413
LOCATION:theStone Church
SUMMARY:Graduation Sunday
URL;VALUE=URI:https://thestone.life/events/graduation-sunday/2026-05-24
ATTACH;FILENAME=Graduation-Sunday-6.png;FMTTYPE=image/png:https://dq5pwpg1q
 8ru0.cloudfront.net/2026/04/13/14/54/12/3612e21e-63c6-463d-a1e8-22d612a5fd
 72/Graduation-Sunday-6.png
END:VEVENT
END:VCALENDAR
