BEGIN:VCALENDAR
VERSION:2.0
PRODID:icalendar-ruby
CALSCALE:GREGORIAN
METHOD:PUBLISH
BEGIN:VEVENT
DTSTAMP:20260423T130324Z
UID:67-477509@thestonechurch.tithelysetup5.com
DTSTART:20260507T230000Z
DTEND:20260508T000000Z
CLASS:PUBLIC
CREATED:20260407T115416
DESCRIPTION:In honor of Sandy Frommelt\, we invite you to join us for a tim
 e of prayer at 6PM on May 7th.  This will take place in Greeley around th
 e gazebo. This is something Sandy has poured her heart into for years\, an
 d we would like to help get the word out and attend this great cause. Join
  us in Greeley to pray to King Jesus! Everyone is welcome\, even if you do
 n't feel comfortable praying\; there is no pressure here. God knows your h
 eart and knows what you would pray for.
LAST-MODIFIED:20260407T115416
LOCATION:Greeley
SUMMARY:National Day of Prayer
URL;VALUE=URI:https://thestone.life/events/national-day-of-prayer/2026-05-0
 7
ATTACH;FILENAME=Day-of-Prayer.png;FMTTYPE=image/png:https://dq5pwpg1q8ru0.c
 loudfront.net/2026/04/07/16/54/16/efecd997-e0f7-4021-b50e-5a05f4e722e8/Day
 -of-Prayer.png
END:VEVENT
END:VCALENDAR
