BEGIN:VCALENDAR
VERSION:2.0
PRODID:icalendar-ruby
CALSCALE:GREGORIAN
METHOD:PUBLISH
BEGIN:VEVENT
DTSTAMP:20260424T200400Z
UID:14-520904@thestonechurch.tithelysetup5.com
DTSTART:20261011T140000Z
DTEND:20261011T150000Z
CLASS:PUBLIC
CREATED:20260424T130929
DESCRIPTION:Family Service
LAST-MODIFIED:20260424T130929
LOCATION:
SUMMARY:Sunday Worship
URL;VALUE=URI:https://thestone.life/events/sunday-worship--14/2026-10-11
END:VEVENT
END:VCALENDAR
