BEGIN:VCALENDAR
VERSION:2.0
PRODID:icalendar-ruby
CALSCALE:GREGORIAN
METHOD:PUBLISH
BEGIN:VEVENT
DTSTAMP:20260424T223053Z
UID:14-521333@thestonechurch.tithelysetup5.com
DTSTART:20261025T140000Z
DTEND:20261025T150000Z
CLASS:PUBLIC
CREATED:20260424T155705
DESCRIPTION:Family Service
LAST-MODIFIED:20260424T155705
LOCATION:
SUMMARY:Sunday Worship
URL;VALUE=URI:https://thestone.life/events/sunday-worship--14/2026-10-25
END:VEVENT
END:VCALENDAR
