BEGIN:VCALENDAR
VERSION:2.0
PRODID:icalendar-ruby
CALSCALE:GREGORIAN
METHOD:PUBLISH
BEGIN:VEVENT
DTSTAMP:20260424T235136Z
UID:14-521761@thestonechurch.tithelysetup5.com
DTSTART:20261101T150000Z
DTEND:20261101T160000Z
CLASS:PUBLIC
CREATED:20260424T184459
DESCRIPTION:Family Service
LAST-MODIFIED:20260424T184459
LOCATION:
SUMMARY:Sunday Worship
URL;VALUE=URI:https://thestone.life/events/sunday-worship--14/2026-11-01
END:VEVENT
END:VCALENDAR
