BEGIN:VCALENDAR
VERSION:2.0
PRODID:icalendar-ruby
CALSCALE:GREGORIAN
METHOD:PUBLISH
BEGIN:VEVENT
DTSTAMP:20260423T130206Z
UID:72-512478@thestonechurch.tithelysetup5.com
DTSTART:20260505T231500Z
DTEND:20260506T003000Z
CLASS:PUBLIC
CREATED:20260421T091925
DESCRIPTION:The Twenty-ish Somethings life group is an ongoing group for Ch
 ristian women ages 19-30 looking to learn and connect with other women in 
 the same stage of life. Our goal is to connect twice a month together\, wi
 th one meeting diving into God’s Word and the other doing a fun activity
 . There is no commitment as we will move the times and places of meeting a
 round to hopefully fit everyone’s schedule at least once a month.  \nP
 lease fill out the form if you're interested in joining us!
LAST-MODIFIED:20260421T091925
LOCATION:Fiesta Cancun
SUMMARY:Twenty-ish Somethings Group
URL;VALUE=URI:https://thestone.life/events/twenty-ish-somethings-group/2026
 -05-05
ATTACH;FILENAME=Life-Groups-3.png;FMTTYPE=image/png:https://dq5pwpg1q8ru0.c
 loudfront.net/2026/04/21/14/12/10/49d073c4-b835-4339-b79b-13c0da091ded/Lif
 e-Groups-3.png
END:VEVENT
END:VCALENDAR
